BEGIN:VCALENDAR
VERSION:2.0
PRODID:-//ChamberMaster//Event Calendar 2.0//EN
METHOD:PUBLISH
X-PUBLISHED-TTL:P3D
REFRESH-INTERVAL:P3D
CALSCALE:GREGORIAN
BEGIN:VEVENT
DTSTART:20260623T203000Z
DTEND:20260623T223000Z
X-MICROSOFT-CDO-ALLDAYEVENT:FALSE
SUMMARY:Cocktails & Commerce: A Tuesday on the Terrace at Capital Grille
DESCRIPTION:The Capital Grille\n\n			10 Memorial Boulevard\n\n			Providence\, RI\n\n			\n\n			Tuesday\, June 23\n\n			4:30 - 6:30 p.m. \n\n			 \n			 \n\n			Join us for Cocktails & Commerce: A Tuesday on the Terrace at Capital Grille. \n\n			\n\n			The event will feature complimentary wine & passed apps\, plus a cash bar!\n\n			\n\n			CONNECT:\n\n			Connect with leaders from across industries & sectors in RI's capital city. \n\n			\n\n			NETWORK:\n\n			Build\, grow\, & expand your professional network while making lasting partnerships.\n\n			\n\n			ENJOY:\n\n			Complimentary wine & passed appetizers on the terrace outside at Capital Grille. \n\n			\n\n			(This is outdoor event)\n\n			 \n\n			Register early. Space is limited. \n\n			\n\n			Members $30\n\n			Non-Members $75\n\n			\n\n			Non-Members please contact Barbara Laurino at blaurino@provchamber.com to register. \n\n			 \n\n			Parking Information\n\n			\n\n			Complimentary valet parking at the Capital Grille on Memorial Boulevard.\n\n			\n\n			Validated parking at the GTECH Center Parking Garage on Francis Street.\n\n			\n\n			Don't forget to bring your ticket if you park in the garage.
X-ALT-DESC;FMTTYPE=text/html:<table align="left" border="0" cellpadding="0" cellspacing="0" class="mcnTextContentContainer" style="border-collapse: collapse\; max-width: 100%\; min-width: 100%\; -ms-text-size-adjust: 100%\;" width="100%">\n	<tbody>\n		<tr>\n			<td class="mcnTextContent" style="color: rgb(255\, 255\, 255)\; font-family: Helvetica\; font-size: 15px\; line-height: 150%\; -ms-text-size-adjust: 100%\; padding-bottom: 9px\; padding-left: 18px\; padding-right: 18px\; padding-top: 0px\; text-align: left\;" valign="top">\n			<div style="text-align: center\;">\n			<div style="text-align: center\;">\n			<div><br />\n			<span style="color:#333333\;"><span style="font-family: Helvetica\; text-align: center\; font-size: 24px\;">The Capital Grille</span></span><br />\n			<span style="color:#333333\;"><span style="font-size: 20px\;"><span style="font-family: arial\;">10 Memorial Boulevard</span></span></span><br />\n			<span style="color:#333333\;"><span style="font-size: 20px\;"><span style="font-family: arial\;"><span style="color:#333333\;"><span style="font-size: 20px\;"><span style="font-family: arial\;">Providence\, RI</span></span></span></span></span></span><br />\n			<br />\n			<span style="color:#333333\;"><span style="font-size:20px\;"><span style="font-family:arial\;">Tuesday\, June&nbsp\;23</span></span></span><br />\n			<span style="color:#333333\;"><span style="font-size:20px\;"><span style="font-family:arial\;"><span style="font-size:20px\;"><span style="font-family:arial\;">4:30 - 6:30 p.m.&nbsp\;</span></span></span></span></span><br />\n			&nbsp\;\n			<div style="text-align: left\;">&nbsp\;</div>\n\n			<div><span style="color:#333333\;"><span style="font-size:18px\;">Join us for Cocktails &amp\; Commerce: A Tuesday on the Terrace at Capital Grille.&nbsp\;<br />\n			<br />\n			The event will feature complimentary wine &amp\; passed apps\, plus a cash bar!<br />\n			<br />\n			CONNECT:<br />\n			Connect with leaders from across industries &amp\; sectors in RI&#39\;s capital city.&nbsp\;<br />\n			<br />\n			NETWORK:<br />\n			Build\, grow\, &amp\; expand your professional network while making lasting partnerships.<br />\n			<br />\n			ENJOY:<br />\n			Complimentary wine &amp\; passed appetizers on the terrace outside at Capital Grille.&nbsp\;</span></span></div>\n\n			<div><br />\n			<span style="color:#333333\;"><span style="font-size:18px\;">(This is outdoor event)</span></span></div>\n\n			<p color:="" fira="" font-size:="" style="box-sizing: border-box\; margin: 0px 0px 1rem\;" text-align:="">&nbsp\;</p>\n\n			<div><strong><span style="color:#333333\;"><span style="font-family: Helvetica\; font-size: 18px\; text-align: center\;">Register early.&nbsp\;</span><span style="font-family: Helvetica\; font-size: 15px\; text-align: center\;"><span style="font-size: 18px\;">Space&nbsp\;is limited.&nbsp\;<br />\n			<br />\n			Members $30<br />\n			Non-Members $75<br />\n			<br />\n			Non-Members please contact Barbara Laurino at <a href="mailto:blaurino@provchamber.com">blaurino@provchamber.com</a> to register.&nbsp\;</span></span></span></strong><br />\n			&nbsp\;</div>\n\n			<div style="text-align: left\;"><strong><span style="color:#333333\;"><span style="font-family: Helvetica\; font-size: 15px\; text-align: center\;"><span style="font-size: 18px\;">Parking Information</span></span></span></strong><br />\n			<br />\n			<span style="font-size:18px\;"><span style="color:#333333\;"><span style="font-family:arial\;">Complimentary valet parking at the Capital Grille on Memorial Boulevard.<br />\n			<br />\n			Validated parking at the GTECH Center Parking Garage on Francis Street.<br />\n			<br />\n			Don&#39\;t forget to bring your ticket if you park in the garage.</span></span></span><br />\n			<br />\n			&nbsp\;</div>\n			</div>\n\n			<div><br />\n			&nbsp\;</div>\n			</div>\n			</div>\n			</td>\n		</tr>\n	</tbody>\n</table>\n
LOCATION:The Capital Grille
UID:e.2600.1182
SEQUENCE:3
DTSTAMP:20260423T233514Z
URL:https://business.providencechamber.com/events/details/cocktails-commerce-a-tuesday-on-the-terrace-at-capital-grille-1182
END:VEVENT

END:VCALENDAR
