BEGIN:VCALENDAR
VERSION:2.0
PRODID:-//ChamberMaster//Event Calendar 2.0//EN
METHOD:PUBLISH
X-PUBLISHED-TTL:P3D
REFRESH-INTERVAL:P3D
CALSCALE:GREGORIAN
BEGIN:VEVENT
DTSTART:20260415T160000Z
DTEND:20260415T173000Z
X-MICROSOFT-CDO-ALLDAYEVENT:FALSE
SUMMARY:2026 Rhode Island Legislative Leadership Luncheon
DESCRIPTION:This serves as the rescheduled makeup date for the Legislative Leadership Luncheon that was previously postponed due to the blizzard. All tables and individual tickets purchased for the original event will be honored.\n\n\n\nIf you were unable to register before\, you are still welcome to join us for this event.\n\n\n\nFeatured Conversation\n\nChamber President Laurie White will host a conversation with leaders of the Rhode Island House and Senate as they respond to questions regarding the many critical issues facing the business community today.\n\n\n\nThis will be a great opportunity for Chamber members to hear directly from our legislative leaders about their priorities for the coming year. Many members of the General Assembly are expected to attend.\n\n \n\n\n\nSpeaker of the House\n\nHon. Joe Shekarchi\n\n\n\nHouse Majority Leader\n\nHon. Christopher R. Blazejewski\n\n\n\nHouse Minority Leader\n\nHon. Michael Chippendale\n\n \n\nSenate President\n\nHon. Valarie J. Lawson\n\n\n\nSenate Majority Whip\n\nHon. David Tikoian\n\n\n\nSenate Minority Leader\n\nHon. Jessica de la Cruz\n\n\n\nReservations\n\nCorporate Table of 8   $1\,100\n\n\n\nIndividual Reservation   $100\n\n\n\nRSVP by Wednesday\, April 8 to kcairo@provchamber.com.\n\n\n\nNo tickets will be sent. All seats reserved at the door.\n\nCancellations after April 8 and no-shows will be billed.\n\n\n\nEvent Sponsorship\n\nHow can you extend your brand among the more than 600 of Rhode Island's top business and civic leaders attending this year's Legislative Luncheon? Sponsorship is a great way to stand out.\n\n\n\nContact Kelly Cairo at 401.521.5000 or kcairo@provchamber.com for details.
X-ALT-DESC;FMTTYPE=text/html:<div style="text-align: center\;"><br />\n<em><span style="font-size:18px\;"><span style="font-family:arial\;">This serves as the rescheduled makeup date for the Legislative Leadership Luncheon that was previously postponed due to the blizzard. All tables and individual tickets purchased for the original event will be honored.<br />\n<br />\nIf you were unable to register before\, you are still welcome to join us for this event.</span></span></em></div>\n\n<div><br />\n<span style="font-size:16px\;"><span style="font-family:arial\;"><span style="font-size:20px\;"><strong>Featured Conversation</strong></span><br />\n<span style="font-size:18px\;">Chamber President Laurie White will host a conversation with leaders of the Rhode Island House and Senate as they respond to questions regarding the many critical issues facing the business community today.<br />\n<br />\nThis will be a great opportunity for Chamber members to hear directly from our legislative leaders about their priorities for the coming year. Many members of the General Assembly are expected to attend.</span></span></span><br />\n&nbsp\;</div>\n\n<div style="text-align: center\;"><br />\n<span style="font-size:18px\;"><span style="color:#333333\;"><span style="font-family:arial\;"><strong>Speaker of the House</strong><br />\nHon. Joe Shekarchi<br />\n<br />\n<strong>House Majority Leader</strong><br />\nHon. Christopher R. Blazejewski<br />\n<br />\n<strong>House Minority Leader</strong><br />\nHon. Michael Chippendale<br />\n&nbsp\;</span></span><br />\n<span style="color:#333333\;"><span style="font-family:arial\;"><strong>Senate President</strong><br />\nHon. Valarie J. Lawson</span></span></span><br />\n<br />\n<strong style="font-family: arial\; font-size: 18px\; text-align: center\;">Senate Majority Whip</strong><br />\n<span style="font-family: arial\; font-size: 18px\; text-align: center\;">Hon. David Tikoian</span><br />\n<br />\n<span style="font-size:18px\;"><span style="color:#333333\;"><span style="font-family:arial\;"><strong>Senate Minority Leader</strong><br />\nHon. Jessica de la Cruz</span></span></span></div>\n\n<div><br />\n<span style="font-size:16px\;"><span style="font-family:arial\;"><span style="color:#333333\;"><strong><span style="font-size:18px\;"><span style="font-size:20px\;">Reservations</span></span></strong><br />\n<span style="font-size:18px\;"><strong>Corporate Table of 8</strong> &ndash\; $1\,100</span><br />\n<br />\n<span style="font-size:18px\;"><strong>Individual Reservation</strong> &ndash\; $100</span><br />\n<br />\n<span style="font-size:18px\;">RSVP by Wednesday\, April 8&nbsp\;to </span></span><span style="font-size:18px\;"><a href="mailto:kcairo@provchamber.com">kcairo@provchamber.com</a></span><span style="color:#333333\;"><span style="font-size:18px\;">.<br />\n<br />\nNo tickets will be sent. All seats reserved at the door.<br />\nCancellations after April 8&nbsp\;and no-shows will be billed.</span><br />\n<br />\n<span style="font-size:20px\;"><strong>Event Sponsorship</strong></span><br />\n<span style="font-size:18px\;">How can you extend your brand among the more than 600 of Rhode Island&#39\;s top business and civic leaders attending this year&#39\;s Legislative Luncheon? Sponsorship is a great way to stand out.<br />\n<br />\nContact Kelly Cairo at 401.521.5000 or </span></span><span style="font-size:18px\;"><a href="mailto:kcairo@provchamber.com">kcairo@provchamber.com</a><span style="color:#333333\;"> for details.</span></span></span></span><br />\n<br />\n&nbsp\;</div>\n
LOCATION:Rhode Island Convention Center
UID:e.2600.1152
SEQUENCE:3
DTSTAMP:20260420T232311Z
URL:https://business.providencechamber.com/events/details/2026-rhode-island-legislative-leadership-luncheon-04-15-2026-1152
END:VEVENT

END:VCALENDAR
